BEGIN:VCALENDAR
VERSION:2.0
PRODID:-//La Boîte à MUS&#039; Production - ECPv6.0.7.1//NONSGML v1.0//EN
CALSCALE:GREGORIAN
METHOD:PUBLISH
X-ORIGINAL-URL:https://www.laboiteamus.com
X-WR-CALDESC:évènements pour La Boîte à MUS&#039; Production
REFRESH-INTERVAL;VALUE=DURATION:PT1H
X-Robots-Tag:noindex
X-PUBLISHED-TTL:PT1H
BEGIN:VTIMEZONE
TZID:Europe/Paris
BEGIN:DAYLIGHT
TZOFFSETFROM:+0100
TZOFFSETTO:+0200
TZNAME:CEST
DTSTART:20260329T010000
END:DAYLIGHT
BEGIN:STANDARD
TZOFFSETFROM:+0200
TZOFFSETTO:+0100
TZNAME:CET
DTSTART:20261025T010000
END:STANDARD
END:VTIMEZONE
BEGIN:VEVENT
DTSTART;TZID=Europe/Paris:20260314T203000
DTEND;TZID=Europe/Paris:20260314T203000
DTSTAMP:20260422T111134
CREATED:20250903T141739Z
LAST-MODIFIED:20250903T141846Z
UID:5374-1773520200-1773520200@www.laboiteamus.com
SUMMARY:Radio Mezcal
DESCRIPTION:
URL:https://www.laboiteamus.com/agenda/radio-mezcal-4/
LOCATION:La Destrousse
CATEGORIES:concerts
ATTACH;FMTTYPE=image/jpeg:https://www.laboiteamus.com/wp-content/uploads/2025/09/Radio-Mezcal-Photo-Groupe-1-e1756904984494.jpg
ORGANIZER;CN="La%20Boite%20%C3%A0%20Mus%27":MAILTO:contact@laboiteamus.com
END:VEVENT
BEGIN:VEVENT
DTSTART;TZID=Europe/Paris:20260319T183000
DTEND;TZID=Europe/Paris:20260319T210000
DTSTAMP:20260422T111134
CREATED:20260217T102301Z
LAST-MODIFIED:20260217T102301Z
UID:5488-1773945000-1773954000@www.laboiteamus.com
SUMMARY:Karine Huet & Claire Luzi - Festival MUS'iterranée
DESCRIPTION:
URL:https://www.laboiteamus.com/agenda/karine-huet-claire-luzi-festival-musiterranee/
LOCATION:Bastide granet\, 210 chemin de Granet\, Aix-en-Provence\, 13090\, France
CATEGORIES:concerts
ATTACH;FMTTYPE=image/jpeg:https://www.laboiteamus.com/wp-content/uploads/2026/02/visuels_RS-26_facebook_1080_karine-et-claire.jpg
ORGANIZER;CN="La%20Boite%20%C3%A0%20Mus%27":MAILTO:contact@laboiteamus.com
END:VEVENT
BEGIN:VEVENT
DTSTART;TZID=Europe/Paris:20260326T213000
DTEND;TZID=Europe/Paris:20260326T213000
DTSTAMP:20260422T111134
CREATED:20260217T102804Z
LAST-MODIFIED:20260217T103308Z
UID:5492-1774560600-1774560600@www.laboiteamus.com
SUMMARY:Juan Carmona - Festival MUS'iterranée
DESCRIPTION:
URL:https://www.laboiteamus.com/agenda/juan-carmona-festival-musiterranee/
LOCATION:Forum de Berre
CATEGORIES:concerts
ATTACH;FMTTYPE=image/png:https://www.laboiteamus.com/wp-content/uploads/2026/02/Juan-Carmona-par-Dario-Caruso.png
ORGANIZER;CN="La%20Boite%20%C3%A0%20Mus%27":MAILTO:contact@laboiteamus.com
END:VEVENT
BEGIN:VEVENT
DTSTART;TZID=Europe/Paris:20260327T200000
DTEND;TZID=Europe/Paris:20260327T200000
DTSTAMP:20260422T111134
CREATED:20260217T104413Z
LAST-MODIFIED:20260217T104413Z
UID:5496-1774641600-1774641600@www.laboiteamus.com
SUMMARY:Afro Rumba Club - Festival MUS'iterranée
DESCRIPTION:
URL:https://www.laboiteamus.com/agenda/afro-rumba-club-festival-musiterranee/
LOCATION:Meyreuil\, 13590\, France
CATEGORIES:concerts
ATTACH;FMTTYPE=image/jpeg:https://www.laboiteamus.com/wp-content/uploads/2026/02/Afro-Rumba-Club-Gil-par-Francois-Moura-scaled.jpg
ORGANIZER;CN="La%20Boite%20%C3%A0%20Mus%27":MAILTO:contact@laboiteamus.com
END:VEVENT
BEGIN:VEVENT
DTSTART;TZID=Europe/Paris:20260328T203000
DTEND;TZID=Europe/Paris:20260328T203000
DTSTAMP:20260422T111134
CREATED:20260217T110611Z
LAST-MODIFIED:20260217T110611Z
UID:5499-1774729800-1774729800@www.laboiteamus.com
SUMMARY:Radio Mindelo - Festival MUS'iterranée
DESCRIPTION:
URL:https://www.laboiteamus.com/agenda/radio-mindelo-festival-musiterranee/
LOCATION:Club Convergences – La Ciotat
CATEGORIES:concerts
ATTACH;FMTTYPE=image/jpeg:https://www.laboiteamus.com/wp-content/uploads/2026/02/Radio-Mindelo-HD-scaled.jpg
ORGANIZER;CN="La%20Boite%20%C3%A0%20Mus%27":MAILTO:contact@laboiteamus.com
END:VEVENT
END:VCALENDAR