BEGIN:VCALENDAR
VERSION:2.0
PRODID:-//La Boîte à MUS&#039; Production - ECPv6.0.7.1//NONSGML v1.0//EN
CALSCALE:GREGORIAN
METHOD:PUBLISH
X-ORIGINAL-URL:https://www.laboiteamus.com
X-WR-CALDESC:évènements pour La Boîte à MUS&#039; Production
REFRESH-INTERVAL;VALUE=DURATION:PT1H
X-Robots-Tag:noindex
X-PUBLISHED-TTL:PT1H
BEGIN:VTIMEZONE
TZID:Europe/Paris
BEGIN:DAYLIGHT
TZOFFSETFROM:+0100
TZOFFSETTO:+0200
TZNAME:CEST
DTSTART:20250330T010000
END:DAYLIGHT
BEGIN:STANDARD
TZOFFSETFROM:+0200
TZOFFSETTO:+0100
TZNAME:CET
DTSTART:20251026T010000
END:STANDARD
END:VTIMEZONE
BEGIN:VEVENT
DTSTART;TZID=Europe/Paris:20250329T143000
DTEND;TZID=Europe/Paris:20250329T173000
DTSTAMP:20260423T171805
CREATED:20250123T110741Z
LAST-MODIFIED:20250123T121335Z
UID:4802-1743258600-1743269400@www.laboiteamus.com
SUMMARY:Stage de chant oriental avec Hédia Chaffaï
DESCRIPTION:VidéoInscriptionStage Chant Oriental \nCet atelier s’adresse à tous les passionnés de musique ! \nDébutants ou confirmés tout le monde est bienvenu  pour passer un moment convivial et musical. \nVous aurez l’opportunité de découvrir et d’apprendre des œuvres (chants\, muwashah\,..) du répertoire oriental (Égypte\, Liban\, Syrie) ainsi que du malouf tunisien. \nAu programme : \n\nÉchauffement corporel et vocal inspiré du Qi Gong pour détendre le corps\, préparer la voix et favoriser un ancrage solide.\nTravail sur la prononciation.\nInitiation aux maqâms et aux cycles rythmiques spécifiques à la musique orientale\, avec des moments dédiés à l’improvisation vocale.\n\nPlongée dès son enfance dans l’univers de la musique au sein d’une famille tunisienne passionnée\, Hedia Chaffai découvre sa vocation pour cet art dès son plus jeune âge. Ses premiers pas dans le monde musical la conduisent à étudier le kanun\, cette cithare orientale\, au conservatoire de Tunis. Le kanun devient alors son fidèle compagnon lors de ses nombreux voyages. Elle interprète des répertoires variés : soliste à l’orchestre symphonique à Tunis\, Musiques sacrés avec Mezdj\, Arabo-andalou avec Tarab\, klezmer à Austin! \nHoraire : 14h30-17h30 \n\nTarifs adhérent : 30€\nTarif non adhérent : 40€\nForfait 2 stages : 80€ non adhérent / 70€ adhérent\nForfait 3 stages : 100€ non adhérent / 85€ adhérent\nAdhésion : 10€ (pendant le festival uniquement) / 25€ jusqu’au 31 août 2025
URL:https://www.laboiteamus.com/agenda/stage-de-chant-oriental-avec-hedia-chaffai/
LOCATION:la Bastide Granet\, 210 Chemin de Granet\, Aix-en-Provence\, 13090\, France
CATEGORIES:stages,Festival MUS'iterranée
ATTACH;FMTTYPE=image/png:https://www.laboiteamus.com/wp-content/uploads/2025/01/Stage-insta-Hedia.png
ORGANIZER;CN="La%20Boite%20%C3%A0%20Mus%27":MAILTO:contact@laboiteamus.com
END:VEVENT
END:VCALENDAR