BEGIN:VCALENDAR
VERSION:2.0
PRODID:-//La Boîte à MUS&#039; Production - ECPv6.0.7.1//NONSGML v1.0//EN
CALSCALE:GREGORIAN
METHOD:PUBLISH
X-ORIGINAL-URL:https://www.laboiteamus.com
X-WR-CALDESC:évènements pour La Boîte à MUS&#039; Production
REFRESH-INTERVAL;VALUE=DURATION:PT1H
X-Robots-Tag:noindex
X-PUBLISHED-TTL:PT1H
BEGIN:VTIMEZONE
TZID:Europe/Paris
BEGIN:DAYLIGHT
TZOFFSETFROM:+0100
TZOFFSETTO:+0200
TZNAME:CEST
DTSTART:20250330T010000
END:DAYLIGHT
BEGIN:STANDARD
TZOFFSETFROM:+0200
TZOFFSETTO:+0100
TZNAME:CET
DTSTART:20251026T010000
END:STANDARD
END:VTIMEZONE
BEGIN:VEVENT
DTSTART;TZID=Europe/Paris:20250405T100000
DTEND;TZID=Europe/Paris:20250405T120000
DTSTAMP:20260423T154758
CREATED:20250123T111829Z
LAST-MODIFIED:20250123T121311Z
UID:4808-1743847200-1743854400@www.laboiteamus.com
SUMMARY:Stage de Flamenco (Buleria) avec Lucas el Luco
DESCRIPTION:Stage de Flamenco \nEn partenariat avec Flamenco Azul \nNiveau intermédiaire \nLucas « El Luco » est né en France et se passionne pour le flamenco dès son plus jeune âge : il prend ses premiers stages à séville à l’âge de 13 ans auprès de El Barullo\, El Oruco\, Juan de Los Reyes\, et Luis Peña. À 18 ans\, il s’envole pour la capitale mondiale du flamenco\, Séville\, où il suit les cours d’une professeure réputée\, Manuela Rios. Lucas Lalanne a ensuite raflé les plus grands concours de flamenco. Aujourd’hui\, il vit de sa passion se produit sur des scènes françaises et sévillanes emblématiques et dans toute l’Europe. \nCe stage vous permettra d’affiner votre oreille pour danser au rythme du chant et de la guitare avec du matériel simple. Après ce stage vous pourrez participer à des improvisations dans une fin de fiesta. \n\nTarifs adhérent : 40€\nTarif non adhérent : 45€\nForfait 2 stages : 80€ non adhérent / 70€ adhérent\nForfait 3 stages : 100€ non adhérent / 85€ adhérent\nAdhésion : 10€ (pendant le festival uniquement) / 25€ jusqu’au 31 août 2025
URL:https://www.laboiteamus.com/agenda/stage-de-flamenco-tango-avec-celine-daussan/
LOCATION:la Bastide Granet\, 210 Chemin de Granet\, Aix-en-Provence\, 13090\, France
CATEGORIES:stages,Festival MUS'iterranée
ATTACH;FMTTYPE=image/png:https://www.laboiteamus.com/wp-content/uploads/2025/01/Stage-insta-Lucas.png
ORGANIZER;CN="La%20Boite%20%C3%A0%20Mus%27":MAILTO:contact@laboiteamus.com
END:VEVENT
BEGIN:VEVENT
DTSTART;TZID=Europe/Paris:20250405T130000
DTEND;TZID=Europe/Paris:20250405T150000
DTSTAMP:20260423T154758
CREATED:20250123T112921Z
LAST-MODIFIED:20250123T121251Z
UID:4817-1743858000-1743865200@www.laboiteamus.com
SUMMARY:Stage Cajon y Palmas avec Rubén Llorach Sanchez
DESCRIPTION:Stage de Cajon y Palmas \nInitiation aux rythmes flamenco \n\nTarifs adhérent : 30€\nTarif non adhérent : 40€\nForfait 2 stages : 80€ non adhérent / 70€ adhérent\nForfait 3 stages : 100€ non adhérent / 85€ adhérent\nAdhésion : 10€ (pendant le festival uniquement) / 25€ jusqu’au 31 août 2025
URL:https://www.laboiteamus.com/agenda/stage-cajon-y-palmas-avec-ruben-llorach-sanchez/
LOCATION:la Bastide Granet\, 210 Chemin de Granet\, Aix-en-Provence\, 13090\, France
CATEGORIES:stages,Festival MUS'iterranée
ATTACH;FMTTYPE=image/png:https://www.laboiteamus.com/wp-content/uploads/2025/01/Stage-insta-Ruben.png
ORGANIZER;CN="La%20Boite%20%C3%A0%20Mus%27":MAILTO:contact@laboiteamus.com
END:VEVENT
BEGIN:VEVENT
DTSTART;TZID=Europe/Paris:20250405T203000
DTEND;TZID=Europe/Paris:20250405T203000
DTSTAMP:20260423T154758
CREATED:20250123T121522Z
LAST-MODIFIED:20250123T121626Z
UID:4835-1743885000-1743885000@www.laboiteamus.com
SUMMARY:Raspigaous - Dernière danse... Tournée d'adieu
DESCRIPTION:
URL:https://www.laboiteamus.com/agenda/raspigaous-derniere-danse-tournee-dadieu/
LOCATION:Amphithéâtre La Manufacture
CATEGORIES:Festival MUS'iterranée
ATTACH;FMTTYPE=image/jpeg:https://www.laboiteamus.com/wp-content/uploads/2025/01/fb_event_raspigaous.jpg
ORGANIZER;CN="La%20Boite%20%C3%A0%20Mus%27":MAILTO:contact@laboiteamus.com
END:VEVENT
END:VCALENDAR