BEGIN:VCALENDAR
VERSION:2.0
PRODID:-//La Boîte à MUS&#039; Production - ECPv6.0.7.1//NONSGML v1.0//EN
CALSCALE:GREGORIAN
METHOD:PUBLISH
X-WR-CALNAME:La Boîte à MUS&#039; Production
X-ORIGINAL-URL:https://www.laboiteamus.com
X-WR-CALDESC:évènements pour La Boîte à MUS&#039; Production
REFRESH-INTERVAL;VALUE=DURATION:PT1H
X-Robots-Tag:noindex
X-PUBLISHED-TTL:PT1H
BEGIN:VTIMEZONE
TZID:Europe/Paris
BEGIN:DAYLIGHT
TZOFFSETFROM:+0100
TZOFFSETTO:+0200
TZNAME:CEST
DTSTART:20240331T010000
END:DAYLIGHT
BEGIN:STANDARD
TZOFFSETFROM:+0200
TZOFFSETTO:+0100
TZNAME:CET
DTSTART:20241027T010000
END:STANDARD
END:VTIMEZONE
BEGIN:VEVENT
DTSTART;VALUE=DATE:20241212
DTEND;VALUE=DATE:20241213
DTSTAMP:20260425T133818
CREATED:20241203T130709Z
LAST-MODIFIED:20241203T143442Z
UID:4534-1733961600-1734047999@www.laboiteamus.com
SUMMARY:Jeudis de Granet - Barth et Surfin K
DESCRIPTION:Les jeudis de GranetExpo-apéro-concert \nJeudi 12 décembre \nParticipation libre \nEXPOSITION \nDe l’IA à la Toile par Barthélémy Amoros \nVernissage : Jeudi 12 décembre – 18h30 \nRéserverCONCERT \nSurfin K \nConcert – Jeudi 26 septembre – 19h30 \nRéserver
URL:https://www.laboiteamus.com/agenda/jeudis-de-granet-dec-2024/
LOCATION:la Bastide Granet\, 210 Chemin de Granet\, Aix-en-Provence\, 13090\, France
CATEGORIES:Concert Boîte à MUS',Jeudis de Granet
ATTACH;FMTTYPE=image/png:https://www.laboiteamus.com/wp-content/uploads/2024/12/Jeudi-de-Granet-12-decembre-2024.png
ORGANIZER;CN="La%20Boite%20%C3%A0%20Mus%27":MAILTO:contact@laboiteamus.com
END:VEVENT
END:VCALENDAR