BEGIN:VCALENDAR
VERSION:2.0
PRODID:-//La Boîte à MUS&#039; Production - ECPv6.0.7.1//NONSGML v1.0//EN
CALSCALE:GREGORIAN
METHOD:PUBLISH
X-WR-CALNAME:La Boîte à MUS&#039; Production
X-ORIGINAL-URL:https://www.laboiteamus.com
X-WR-CALDESC:évènements pour La Boîte à MUS&#039; Production
REFRESH-INTERVAL;VALUE=DURATION:PT1H
X-Robots-Tag:noindex
X-PUBLISHED-TTL:PT1H
BEGIN:VTIMEZONE
TZID:Europe/Paris
BEGIN:DAYLIGHT
TZOFFSETFROM:+0100
TZOFFSETTO:+0200
TZNAME:CEST
DTSTART:20250330T010000
END:DAYLIGHT
BEGIN:STANDARD
TZOFFSETFROM:+0200
TZOFFSETTO:+0100
TZNAME:CET
DTSTART:20251026T010000
END:STANDARD
END:VTIMEZONE
BEGIN:VEVENT
DTSTART;TZID=Europe/Paris:20250123T183000
DTEND;TZID=Europe/Paris:20250123T220000
DTSTAMP:20260425T133027
CREATED:20250102T105328Z
LAST-MODIFIED:20250109T092028Z
UID:4733-1737657000-1737669600@www.laboiteamus.com
SUMMARY:Jeudis de Granet - Marga Morel d'Arleux et Teresa Deleria
DESCRIPTION:Les jeudis de GranetExpo-apéro-concert \nJeudi 23 janvier \nParticipation libre \nEXPOSITION \nMarga Morel d’Arleux \nFlamenco es vida\n \n\nArtiste franco-argentine\, Marga Morel d’Arleux crée à travers son oeuvre des dialogues entre l’histoire et la contemporanéité. Formée en arts à la State University of New York et dans des ateliers parisiens renommés\, elle se spécialise dans la peinture à la cire sous verre\, une méthode singulière inspirée des portraits du Fayoum d’Égypte. \nCe choix de support confère à ses créations une luminosité et une profondeur exceptionnelles\, ajoutant une forte dimension émotionnelle. Ses oeuvres\, riches en couleurs et en symbolisme\, explorent des thèmes variés\, offrant ainsi une expérience visuelle à la fois poétique et introspective. \n\nVernissage : Jeudi 23 janvier – 18h30 \nRéserverCONCERT \nTeresa Deleria y su grupo \nUn tablao flamenco festif ! \nConcert – Jeudi 23 janvier – 19h30 \nRéserver
URL:https://www.laboiteamus.com/agenda/jeudis-de-granet-23jan2025/
LOCATION:la Bastide Granet\, 210 Chemin de Granet\, Aix-en-Provence\, 13090\, France
CATEGORIES:Concert Boîte à MUS',Jeudis de Granet
ATTACH;FMTTYPE=image/png:https://www.laboiteamus.com/wp-content/uploads/2025/01/Jeudis-de-Granet-23-janvier-Banniere.png
ORGANIZER;CN="La%20Boite%20%C3%A0%20Mus%27":MAILTO:contact@laboiteamus.com
END:VEVENT
END:VCALENDAR