BEGIN:VCALENDAR
VERSION:2.0
PRODID:-//La Boîte à MUS&#039; Production - ECPv6.0.7.1//NONSGML v1.0//EN
CALSCALE:GREGORIAN
METHOD:PUBLISH
X-WR-CALNAME:La Boîte à MUS&#039; Production
X-ORIGINAL-URL:https://www.laboiteamus.com
X-WR-CALDESC:évènements pour La Boîte à MUS&#039; Production
REFRESH-INTERVAL;VALUE=DURATION:PT1H
X-Robots-Tag:noindex
X-PUBLISHED-TTL:PT1H
BEGIN:VTIMEZONE
TZID:Europe/Paris
BEGIN:DAYLIGHT
TZOFFSETFROM:+0100
TZOFFSETTO:+0200
TZNAME:CEST
DTSTART:20250330T010000
END:DAYLIGHT
BEGIN:STANDARD
TZOFFSETFROM:+0200
TZOFFSETTO:+0100
TZNAME:CET
DTSTART:20251026T010000
END:STANDARD
END:VTIMEZONE
BEGIN:VEVENT
DTSTART;TZID=Europe/Paris:20250612T193000
DTEND;TZID=Europe/Paris:20250612T220000
DTSTAMP:20260425T055204
CREATED:20250603T150508Z
LAST-MODIFIED:20250603T150508Z
UID:5124-1749756600-1749765600@www.laboiteamus.com
SUMMARY:Jeudis de Granet - Céline Gimbert et Cynthia Ranguis
DESCRIPTION:Les jeudis de GranetExpo-apéro-concert \nJeudi 15 mai \nParticipation libre \nCONCERT \nVoyage en Méditerranée \nLa Méditerranée est un carrefour de cultures\, un lieu où les influences se croisent et s’entrelacent au fil des siècles. À travers ce concert\, vous embarquerez pour une traversée musicale de ce vaste bassin\, à la rencontre des mélodies\, des langues et des histoires qui le peuplent. \nLe programme mêle des airs traditionnels\, des chansons populaires et des pièces savantes inspirées par cet espace maritime si riche. \nDes chants siciliens\, vénitiens\, des airs grecs ou des mélodies françaises aux sonorités orientales\, chaque morceau raconte un fragment de cette mosaïque culturelle. \nCe concert est une invitation au voyage\, un hommage aux échanges et aux influences réciproques qui font l’âme méditerranéenne. \nRécital chant lyrique – piano \nMélodies françaises\, espagnoles\, orientales\, siciliennes et napolitaines. \nDistribution \nCynthia Ranguis : Soprano \nCéline Gimbert : Piano \nRéserver
URL:https://www.laboiteamus.com/agenda/jeudisdegranet-12juin25/
LOCATION:la Bastide Granet\, 210 Chemin de Granet\, Aix-en-Provence\, 13090\, France
CATEGORIES:Concert Boîte à MUS',Jeudis de Granet
ATTACH;FMTTYPE=image/png:https://www.laboiteamus.com/wp-content/uploads/2025/05/Jeudi-12-juin-banniere-fb.png
ORGANIZER;CN="La%20Boite%20%C3%A0%20Mus%27":MAILTO:contact@laboiteamus.com
END:VEVENT
END:VCALENDAR